BEGIN:VCALENDAR
VERSION:2.0
PRODID:-//St Basil Catholic Elementary School -Brantford - ECPv6.15.7//NONSGML v1.0//EN
CALSCALE:GREGORIAN
METHOD:PUBLISH
X-WR-CALNAME:St Basil Catholic Elementary School -Brantford
X-ORIGINAL-URL:https://bbas1.bhncdsb.ca
X-WR-CALDESC:Events for St Basil Catholic Elementary School -Brantford
REFRESH-INTERVAL;VALUE=DURATION:PT1H
X-Robots-Tag:noindex
X-PUBLISHED-TTL:PT1H
BEGIN:VTIMEZONE
TZID:America/Toronto
BEGIN:DAYLIGHT
TZOFFSETFROM:-0500
TZOFFSETTO:-0400
TZNAME:EDT
DTSTART:20240310T070000
END:DAYLIGHT
BEGIN:STANDARD
TZOFFSETFROM:-0400
TZOFFSETTO:-0500
TZNAME:EST
DTSTART:20241103T060000
END:STANDARD
BEGIN:DAYLIGHT
TZOFFSETFROM:-0500
TZOFFSETTO:-0400
TZNAME:EDT
DTSTART:20250309T070000
END:DAYLIGHT
BEGIN:STANDARD
TZOFFSETFROM:-0400
TZOFFSETTO:-0500
TZNAME:EST
DTSTART:20251102T060000
END:STANDARD
BEGIN:DAYLIGHT
TZOFFSETFROM:-0500
TZOFFSETTO:-0400
TZNAME:EDT
DTSTART:20260308T070000
END:DAYLIGHT
BEGIN:STANDARD
TZOFFSETFROM:-0400
TZOFFSETTO:-0500
TZNAME:EST
DTSTART:20261101T060000
END:STANDARD
END:VTIMEZONE
BEGIN:VEVENT
DTSTART;TZID=America/Toronto:20250304T130000
DTEND;TZID=America/Toronto:20250304T134000
DTSTAMP:20260419T224536
CREATED:20250127T144717Z
LAST-MODIFIED:20250127T144717Z
UID:659-1741093200-1741095600@bbas1.bhncdsb.ca
SUMMARY:Pita Pit
DESCRIPTION:Order must be placed using the LunchBox link in school Cash Online.
URL:https://bbas1.bhncdsb.ca/event/pita-pit-6/
END:VEVENT
BEGIN:VEVENT
DTSTART;TZID=America/Toronto:20250227T130000
DTEND;TZID=America/Toronto:20250227T134000
DTSTAMP:20260419T224536
CREATED:20250127T145308Z
LAST-MODIFIED:20250127T145308Z
UID:671-1740661200-1740663600@bbas1.bhncdsb.ca
SUMMARY:Pizza Day
DESCRIPTION:Pizza provided by Big Box Pizza. \nOrders must be placed using School Cash Online.
URL:https://bbas1.bhncdsb.ca/event/pizza-day-20/
END:VEVENT
BEGIN:VEVENT
DTSTART;VALUE=DATE:20250226
DTEND;VALUE=DATE:20250227
DTSTAMP:20260419T224536
CREATED:20250127T143955Z
LAST-MODIFIED:20250127T143955Z
UID:649-1740528000-1740614399@bbas1.bhncdsb.ca
SUMMARY:Pink Shirt Day
DESCRIPTION:Pink Shirt Day 2025
URL:https://bbas1.bhncdsb.ca/event/pink-shirt-day/
END:VEVENT
BEGIN:VEVENT
DTSTART;TZID=America/Toronto:20250225T130000
DTEND;TZID=America/Toronto:20250225T134000
DTSTAMP:20260419T224536
CREATED:20250127T144641Z
LAST-MODIFIED:20250127T144641Z
UID:657-1740488400-1740490800@bbas1.bhncdsb.ca
SUMMARY:Pita Pit
DESCRIPTION:Order must be placed using the LunchBox link in school Cash Online.
URL:https://bbas1.bhncdsb.ca/event/pita-pit-5/
END:VEVENT
BEGIN:VEVENT
DTSTART;TZID=America/Toronto:20250220T130000
DTEND;TZID=America/Toronto:20250220T134000
DTSTAMP:20260419T224536
CREATED:20250127T145241Z
LAST-MODIFIED:20250127T145241Z
UID:669-1740056400-1740058800@bbas1.bhncdsb.ca
SUMMARY:Pizza Day
DESCRIPTION:Pizza provided by Big Box Pizza. \nOrders must be placed using School Cash Online.
URL:https://bbas1.bhncdsb.ca/event/pizza-day-19/
END:VEVENT
BEGIN:VEVENT
DTSTART;TZID=America/Toronto:20250218T130000
DTEND;TZID=America/Toronto:20250218T134000
DTSTAMP:20260419T224536
CREATED:20250127T144612Z
LAST-MODIFIED:20250127T144612Z
UID:655-1739883600-1739886000@bbas1.bhncdsb.ca
SUMMARY:Pita Pit
DESCRIPTION:Order must be placed using the LunchBox link in school Cash Online.
URL:https://bbas1.bhncdsb.ca/event/pita-pit-4/
END:VEVENT
BEGIN:VEVENT
DTSTART;VALUE=DATE:20250217
DTEND;VALUE=DATE:20250218
DTSTAMP:20260419T224536
CREATED:20250106T145701Z
LAST-MODIFIED:20250106T145701Z
UID:564-1739750400-1739836799@bbas1.bhncdsb.ca
SUMMARY:Family Day - No School
DESCRIPTION:
URL:https://bbas1.bhncdsb.ca/event/family-day-no-school/
END:VEVENT
BEGIN:VEVENT
DTSTART;TZID=America/Toronto:20250214T130000
DTEND;TZID=America/Toronto:20250214T134000
DTSTAMP:20260419T224536
CREATED:20250210T141656Z
LAST-MODIFIED:20250210T141656Z
UID:726-1739538000-1739540400@bbas1.bhncdsb.ca
SUMMARY:Pawcha Winner's Lunch
DESCRIPTION:
URL:https://bbas1.bhncdsb.ca/event/pawcha-winners-lunch/
END:VEVENT
BEGIN:VEVENT
DTSTART;VALUE=DATE:20250214
DTEND;VALUE=DATE:20250215
DTSTAMP:20260419T224536
CREATED:20250210T141542Z
LAST-MODIFIED:20250210T141542Z
UID:722-1739491200-1739577599@bbas1.bhncdsb.ca
SUMMARY:Valentine's Day - Wear Red\, Pink or White
DESCRIPTION:
URL:https://bbas1.bhncdsb.ca/event/valentines-day-wear-red-pink-or-white/
END:VEVENT
BEGIN:VEVENT
DTSTART;VALUE=DATE:20250214
DTEND;VALUE=DATE:20250215
DTSTAMP:20260419T224536
CREATED:20250210T141037Z
LAST-MODIFIED:20250210T141037Z
UID:720-1739491200-1739577599@bbas1.bhncdsb.ca
SUMMARY:Valentine's Dance
DESCRIPTION:
URL:https://bbas1.bhncdsb.ca/event/valentines-dance/
END:VEVENT
BEGIN:VEVENT
DTSTART;TZID=America/Toronto:20250213T130000
DTEND;TZID=America/Toronto:20250213T134000
DTSTAMP:20260419T224536
CREATED:20250127T145213Z
LAST-MODIFIED:20250127T145213Z
UID:667-1739451600-1739454000@bbas1.bhncdsb.ca
SUMMARY:Pizza Day
DESCRIPTION:Pizza provided by Big Box Pizza. \nOrders must be placed using School Cash Online.
URL:https://bbas1.bhncdsb.ca/event/pizza-day-18/
END:VEVENT
BEGIN:VEVENT
DTSTART;TZID=America/Toronto:20250211T183000
DTEND;TZID=America/Toronto:20250211T200000
DTSTAMP:20260419T224536
CREATED:20250107T193243Z
LAST-MODIFIED:20250210T140929Z
UID:625-1739298600-1739304000@bbas1.bhncdsb.ca
SUMMARY:Confirmation
DESCRIPTION:Confirmation for grade 7 (and possibly 8) students at St Basil Church \nSee email sent December 16 for more details.
URL:https://bbas1.bhncdsb.ca/event/confirmation/
END:VEVENT
BEGIN:VEVENT
DTSTART;TZID=America/Toronto:20250211T130000
DTEND;TZID=America/Toronto:20250211T134000
DTSTAMP:20260419T224536
CREATED:20250127T144516Z
LAST-MODIFIED:20250127T144516Z
UID:653-1739278800-1739281200@bbas1.bhncdsb.ca
SUMMARY:Pita Pit
DESCRIPTION:Order must be placed using the LunchBox link in school Cash Online.
URL:https://bbas1.bhncdsb.ca/event/pita-pit-3/
END:VEVENT
BEGIN:VEVENT
DTSTART;TZID=America/Toronto:20250206T130000
DTEND;TZID=America/Toronto:20250206T134000
DTSTAMP:20260419T224536
CREATED:20250127T145146Z
LAST-MODIFIED:20250127T145146Z
UID:665-1738846800-1738849200@bbas1.bhncdsb.ca
SUMMARY:Pizza Day
DESCRIPTION:Pizza provided by Big Box Pizza. \nOrders must be placed using School Cash Online.
URL:https://bbas1.bhncdsb.ca/event/pizza-day-17/
END:VEVENT
BEGIN:VEVENT
DTSTART;TZID=America/Toronto:20250204T130000
DTEND;TZID=America/Toronto:20250204T134000
DTSTAMP:20260419T224536
CREATED:20250127T144445Z
LAST-MODIFIED:20250127T144445Z
UID:651-1738674000-1738676400@bbas1.bhncdsb.ca
SUMMARY:Pita Pit
DESCRIPTION:Order must be placed using the LunchBox link in school Cash Online.
URL:https://bbas1.bhncdsb.ca/event/pita-pit-2/
END:VEVENT
BEGIN:VEVENT
DTSTART;TZID=America/Toronto:20250131T090000
DTEND;TZID=America/Toronto:20250131T160000
DTSTAMP:20260419T224536
CREATED:20241210T144645Z
LAST-MODIFIED:20241210T144645Z
UID:542-1738314000-1738339200@bbas1.bhncdsb.ca
SUMMARY:Intermediate Basketball Tournament - Cancellation Date
DESCRIPTION:Cancellation date for Intermediate basketball tournament.
URL:https://bbas1.bhncdsb.ca/event/intermediate-basketball-tournament-cancellation-date/
END:VEVENT
BEGIN:VEVENT
DTSTART;TZID=America/Toronto:20250130T130000
DTEND;TZID=America/Toronto:20250130T134000
DTSTAMP:20260419T224536
CREATED:20250106T153436Z
LAST-MODIFIED:20250106T153436Z
UID:613-1738242000-1738244400@bbas1.bhncdsb.ca
SUMMARY:Pizza Day
DESCRIPTION:Pizza orders must be placed using School Cash Online before the due date. \nPizza provided by Big Box Pizza.
URL:https://bbas1.bhncdsb.ca/event/pizza-day-16/
END:VEVENT
BEGIN:VEVENT
DTSTART;VALUE=DATE:20250130
DTEND;VALUE=DATE:20250131
DTSTAMP:20260419T224536
CREATED:20250107T164226Z
LAST-MODIFIED:20250107T164226Z
UID:619-1738195200-1738281599@bbas1.bhncdsb.ca
SUMMARY:5/6 - Safety Village
DESCRIPTION:The grade 6 students in the 5/6 class will travel by School Bus to the Safety Village as part of their curriculum. \nPermission from must be signed on School Cash Online
URL:https://bbas1.bhncdsb.ca/event/5-6-safety-village/
END:VEVENT
BEGIN:VEVENT
DTSTART;TZID=America/Toronto:20250129T090000
DTEND;TZID=America/Toronto:20250129T160000
DTSTAMP:20260419T224536
CREATED:20241210T144328Z
LAST-MODIFIED:20250106T204004Z
UID:540-1738141200-1738166400@bbas1.bhncdsb.ca
SUMMARY:Intermediate Basketball Tournament - ACS
DESCRIPTION:Intermediate boys and girls teams will walk to Assumption College for their basketball tournament. \n 
URL:https://bbas1.bhncdsb.ca/event/intermediate-basketball-tournament-acs/
END:VEVENT
BEGIN:VEVENT
DTSTART;VALUE=DATE:20250129
DTEND;VALUE=DATE:20250130
DTSTAMP:20260419T224536
CREATED:20250107T164141Z
LAST-MODIFIED:20250107T164141Z
UID:617-1738108800-1738195199@bbas1.bhncdsb.ca
SUMMARY:6B - Safety Village
DESCRIPTION:6B class will travel by School Bus to the Safety Village as part of their curriculum. \nPermission from must be signed on School Cash Online
URL:https://bbas1.bhncdsb.ca/event/6b-safety-village/
END:VEVENT
BEGIN:VEVENT
DTSTART;TZID=America/Toronto:20250128T130000
DTEND;TZID=America/Toronto:20250128T134000
DTSTAMP:20260419T224536
CREATED:20250106T153205Z
LAST-MODIFIED:20250106T153205Z
UID:605-1738069200-1738071600@bbas1.bhncdsb.ca
SUMMARY:Pita Pit Day
DESCRIPTION:Pita Pit orders can be placed using the Lunchbox link in your School Cash Online account.
URL:https://bbas1.bhncdsb.ca/event/pita-pit-day-14/
END:VEVENT
BEGIN:VEVENT
DTSTART;TZID=America/Toronto:20250127T183000
DTEND;TZID=America/Toronto:20250127T193000
DTSTAMP:20260419T224536
CREATED:20250106T152648Z
LAST-MODIFIED:20250106T152648Z
UID:597-1738002600-1738006200@bbas1.bhncdsb.ca
SUMMARY:Parent Council Meeting
DESCRIPTION:Virtual Parent Council meeting on TEAMS.
URL:https://bbas1.bhncdsb.ca/event/parent-council-meeting-2/
END:VEVENT
BEGIN:VEVENT
DTSTART;VALUE=DATE:20250124
DTEND;VALUE=DATE:20250125
DTSTAMP:20260419T224536
CREATED:20250107T164108Z
LAST-MODIFIED:20250107T164108Z
UID:615-1737676800-1737763199@bbas1.bhncdsb.ca
SUMMARY:6A - Safety Village
DESCRIPTION:6A class will travel by School Bus to the Safety Village as part of their curriculum. \nPermission from must be signed on School Cash Online
URL:https://bbas1.bhncdsb.ca/event/6a-safety-village/
END:VEVENT
BEGIN:VEVENT
DTSTART;TZID=America/Toronto:20250123T130000
DTEND;TZID=America/Toronto:20250123T134000
DTSTAMP:20260419T224536
CREATED:20250106T153406Z
LAST-MODIFIED:20250106T153406Z
UID:611-1737637200-1737639600@bbas1.bhncdsb.ca
SUMMARY:Pizza Day
DESCRIPTION:Pizza orders must be placed using School Cash Online before the due date. \nPizza provided by Big Box Pizza.
URL:https://bbas1.bhncdsb.ca/event/pizza-day-15/
END:VEVENT
BEGIN:VEVENT
DTSTART;VALUE=DATE:20250122
DTEND;VALUE=DATE:20250123
DTSTAMP:20260419T224536
CREATED:20250113T161403Z
LAST-MODIFIED:20250113T161403Z
UID:635-1737504000-1737590399@bbas1.bhncdsb.ca
SUMMARY:Spirit Day - Hat Day
DESCRIPTION:Students are encouraged to wear their favourite hat to school.
URL:https://bbas1.bhncdsb.ca/event/spirit-day-hat-day/
END:VEVENT
BEGIN:VEVENT
DTSTART;TZID=America/Toronto:20250121T130000
DTEND;TZID=America/Toronto:20250121T134000
DTSTAMP:20260419T224536
CREATED:20250106T153017Z
LAST-MODIFIED:20250106T153017Z
UID:603-1737464400-1737466800@bbas1.bhncdsb.ca
SUMMARY:Pita Pit Day
DESCRIPTION:Pita Pit orders can be placed using the Lunchbox link in your School Cash Online account.
URL:https://bbas1.bhncdsb.ca/event/pita-pit-day-13/
END:VEVENT
BEGIN:VEVENT
DTSTART;VALUE=DATE:20250120
DTEND;VALUE=DATE:20250121
DTSTAMP:20260419T224536
CREATED:20250106T145634Z
LAST-MODIFIED:20250106T145634Z
UID:562-1737331200-1737417599@bbas1.bhncdsb.ca
SUMMARY:PA Day - No School
DESCRIPTION:
URL:https://bbas1.bhncdsb.ca/event/pa-day-no-school-2/
END:VEVENT
BEGIN:VEVENT
DTSTART;TZID=America/Toronto:20250116T130000
DTEND;TZID=America/Toronto:20250116T134000
DTSTAMP:20260419T224536
CREATED:20250106T153341Z
LAST-MODIFIED:20250106T153341Z
UID:609-1737032400-1737034800@bbas1.bhncdsb.ca
SUMMARY:Pizza Day
DESCRIPTION:Pizza orders must be placed using School Cash Online before the due date. \nPizza provided by Big Box Pizza.
URL:https://bbas1.bhncdsb.ca/event/pizza-day-14/
END:VEVENT
BEGIN:VEVENT
DTSTART;VALUE=DATE:20250116
DTEND;VALUE=DATE:20250117
DTSTAMP:20260419T224536
CREATED:20250106T152036Z
LAST-MODIFIED:20250106T152036Z
UID:590-1736985600-1737071999@bbas1.bhncdsb.ca
SUMMARY:Dental Screening
DESCRIPTION:The Brant County Health Unit will conduct dental screening on JK\, SK and Grade 2 students.
URL:https://bbas1.bhncdsb.ca/event/dental-screening-2/
END:VEVENT
BEGIN:VEVENT
DTSTART;VALUE=DATE:20250115
DTEND;VALUE=DATE:20250116
DTSTAMP:20260419T224536
CREATED:20250106T152013Z
LAST-MODIFIED:20250106T152013Z
UID:588-1736899200-1736985599@bbas1.bhncdsb.ca
SUMMARY:Dental Screening
DESCRIPTION:The Brant County Health Unit will conduct dental screening on JK\, SK and Grade 2 students.
URL:https://bbas1.bhncdsb.ca/event/dental-screening/
END:VEVENT
END:VCALENDAR