BEGIN:VCALENDAR
VERSION:2.0
PRODID:-//St Basil Catholic Elementary School -Brantford - ECPv6.15.7//NONSGML v1.0//EN
CALSCALE:GREGORIAN
METHOD:PUBLISH
X-WR-CALNAME:St Basil Catholic Elementary School -Brantford
X-ORIGINAL-URL:https://bbas1.bhncdsb.ca
X-WR-CALDESC:Events for St Basil Catholic Elementary School -Brantford
REFRESH-INTERVAL;VALUE=DURATION:PT1H
X-Robots-Tag:noindex
X-PUBLISHED-TTL:PT1H
BEGIN:VTIMEZONE
TZID:America/Toronto
BEGIN:DAYLIGHT
TZOFFSETFROM:-0500
TZOFFSETTO:-0400
TZNAME:EDT
DTSTART:20230312T070000
END:DAYLIGHT
BEGIN:STANDARD
TZOFFSETFROM:-0400
TZOFFSETTO:-0500
TZNAME:EST
DTSTART:20231105T060000
END:STANDARD
BEGIN:DAYLIGHT
TZOFFSETFROM:-0500
TZOFFSETTO:-0400
TZNAME:EDT
DTSTART:20240310T070000
END:DAYLIGHT
BEGIN:STANDARD
TZOFFSETFROM:-0400
TZOFFSETTO:-0500
TZNAME:EST
DTSTART:20241103T060000
END:STANDARD
BEGIN:DAYLIGHT
TZOFFSETFROM:-0500
TZOFFSETTO:-0400
TZNAME:EDT
DTSTART:20250309T070000
END:DAYLIGHT
BEGIN:STANDARD
TZOFFSETFROM:-0400
TZOFFSETTO:-0500
TZNAME:EST
DTSTART:20251102T060000
END:STANDARD
BEGIN:DAYLIGHT
TZOFFSETFROM:-0500
TZOFFSETTO:-0400
TZNAME:EDT
DTSTART:20260308T070000
END:DAYLIGHT
BEGIN:STANDARD
TZOFFSETFROM:-0400
TZOFFSETTO:-0500
TZNAME:EST
DTSTART:20261101T060000
END:STANDARD
END:VTIMEZONE
BEGIN:VEVENT
DTSTART;VALUE=DATE:20250122
DTEND;VALUE=DATE:20250123
DTSTAMP:20260420T022225
CREATED:20250113T161403Z
LAST-MODIFIED:20250113T161403Z
UID:635-1737504000-1737590399@bbas1.bhncdsb.ca
SUMMARY:Spirit Day - Hat Day
DESCRIPTION:Students are encouraged to wear their favourite hat to school.
URL:https://bbas1.bhncdsb.ca/event/spirit-day-hat-day/
END:VEVENT
BEGIN:VEVENT
DTSTART;TZID=America/Toronto:20250121T130000
DTEND;TZID=America/Toronto:20250121T134000
DTSTAMP:20260420T022225
CREATED:20250106T153017Z
LAST-MODIFIED:20250106T153017Z
UID:603-1737464400-1737466800@bbas1.bhncdsb.ca
SUMMARY:Pita Pit Day
DESCRIPTION:Pita Pit orders can be placed using the Lunchbox link in your School Cash Online account.
URL:https://bbas1.bhncdsb.ca/event/pita-pit-day-13/
END:VEVENT
BEGIN:VEVENT
DTSTART;VALUE=DATE:20250120
DTEND;VALUE=DATE:20250121
DTSTAMP:20260420T022225
CREATED:20250106T145634Z
LAST-MODIFIED:20250106T145634Z
UID:562-1737331200-1737417599@bbas1.bhncdsb.ca
SUMMARY:PA Day - No School
DESCRIPTION:
URL:https://bbas1.bhncdsb.ca/event/pa-day-no-school-2/
END:VEVENT
BEGIN:VEVENT
DTSTART;TZID=America/Toronto:20250116T130000
DTEND;TZID=America/Toronto:20250116T134000
DTSTAMP:20260420T022225
CREATED:20250106T153341Z
LAST-MODIFIED:20250106T153341Z
UID:609-1737032400-1737034800@bbas1.bhncdsb.ca
SUMMARY:Pizza Day
DESCRIPTION:Pizza orders must be placed using School Cash Online before the due date. \nPizza provided by Big Box Pizza.
URL:https://bbas1.bhncdsb.ca/event/pizza-day-14/
END:VEVENT
BEGIN:VEVENT
DTSTART;VALUE=DATE:20250116
DTEND;VALUE=DATE:20250117
DTSTAMP:20260420T022225
CREATED:20250106T152036Z
LAST-MODIFIED:20250106T152036Z
UID:590-1736985600-1737071999@bbas1.bhncdsb.ca
SUMMARY:Dental Screening
DESCRIPTION:The Brant County Health Unit will conduct dental screening on JK\, SK and Grade 2 students.
URL:https://bbas1.bhncdsb.ca/event/dental-screening-2/
END:VEVENT
BEGIN:VEVENT
DTSTART;VALUE=DATE:20250115
DTEND;VALUE=DATE:20250116
DTSTAMP:20260420T022225
CREATED:20250106T152013Z
LAST-MODIFIED:20250106T152013Z
UID:588-1736899200-1736985599@bbas1.bhncdsb.ca
SUMMARY:Dental Screening
DESCRIPTION:The Brant County Health Unit will conduct dental screening on JK\, SK and Grade 2 students.
URL:https://bbas1.bhncdsb.ca/event/dental-screening/
END:VEVENT
BEGIN:VEVENT
DTSTART;TZID=America/Toronto:20250114T130000
DTEND;TZID=America/Toronto:20250114T134000
DTSTAMP:20260420T022225
CREATED:20250106T152831Z
LAST-MODIFIED:20250106T152831Z
UID:601-1736859600-1736862000@bbas1.bhncdsb.ca
SUMMARY:Pita Pit Day
DESCRIPTION:Pita Pit orders can be placed using the Lunchbox link in your School Cash Online account.
URL:https://bbas1.bhncdsb.ca/event/pita-pit-day-12/
END:VEVENT
BEGIN:VEVENT
DTSTART;TZID=America/Toronto:20250110T130000
DTEND;TZID=America/Toronto:20250110T134000
DTSTAMP:20260420T022225
CREATED:20250106T152417Z
LAST-MODIFIED:20250106T152417Z
UID:593-1736514000-1736516400@bbas1.bhncdsb.ca
SUMMARY:Pawcha Award Winners Lunch
DESCRIPTION:Big Box Pizza will be provided for our Pawcha winners lunch with the Principals.
URL:https://bbas1.bhncdsb.ca/event/pawcha-award-winners-lunch/
END:VEVENT
BEGIN:VEVENT
DTSTART;TZID=America/Toronto:20250109T130000
DTEND;TZID=America/Toronto:20250109T134000
DTSTAMP:20260420T022225
CREATED:20250106T153315Z
LAST-MODIFIED:20250106T153315Z
UID:607-1736427600-1736430000@bbas1.bhncdsb.ca
SUMMARY:Pizza Day
DESCRIPTION:Pizza orders must be placed using School Cash Online before the due date. \nPizza provided by Big Box Pizza.
URL:https://bbas1.bhncdsb.ca/event/pizza-day-13/
END:VEVENT
BEGIN:VEVENT
DTSTART;VALUE=DATE:20250108
DTEND;VALUE=DATE:20250109
DTSTAMP:20260420T022225
CREATED:20250106T152543Z
LAST-MODIFIED:20250106T152543Z
UID:595-1736294400-1736380799@bbas1.bhncdsb.ca
SUMMARY:Assumption College Grade 8 Visit
DESCRIPTION:Staff from Assumption College will visit with the grade 8 classes to discuss registration for next year.
URL:https://bbas1.bhncdsb.ca/event/assumption-college-grade-8-visit/
END:VEVENT
BEGIN:VEVENT
DTSTART;TZID=America/Toronto:20250107T130000
DTEND;TZID=America/Toronto:20250107T134000
DTSTAMP:20260420T022225
CREATED:20250106T152759Z
LAST-MODIFIED:20250106T152759Z
UID:599-1736254800-1736257200@bbas1.bhncdsb.ca
SUMMARY:Pita Pit Day
DESCRIPTION:Pita Pit orders can be placed using the Lunchbox link in your School Cash Online account.
URL:https://bbas1.bhncdsb.ca/event/pita-pit-day-11/
END:VEVENT
BEGIN:VEVENT
DTSTART;TZID=America/Toronto:20241219T130000
DTEND;TZID=America/Toronto:20241219T134000
DTSTAMP:20260420T022225
CREATED:20241108T152135Z
LAST-MODIFIED:20241108T152135Z
UID:494-1734613200-1734615600@bbas1.bhncdsb.ca
SUMMARY:Pizza Day
DESCRIPTION:Pizza provided by Big Box Pizza. \nOrders must be placed on School Cash Online.
URL:https://bbas1.bhncdsb.ca/event/pizza-day-12/
END:VEVENT
BEGIN:VEVENT
DTSTART;TZID=America/Toronto:20241219T103000
DTEND;TZID=America/Toronto:20241219T140000
DTSTAMP:20260420T022225
CREATED:20241108T152447Z
LAST-MODIFIED:20241108T152603Z
UID:498-1734604200-1734616800@bbas1.bhncdsb.ca
SUMMARY:Grade 1 -3 - Moana 2 Movie Trip
DESCRIPTION:Grade 1\, 2 and 3 classes will travel by school bus to Galaxy Cinema Brantford. \nPurchases for tickets and concessions must be made on School Cash Online before December 13.
URL:https://bbas1.bhncdsb.ca/event/grade-1-3-moana-2-movie-trip/
END:VEVENT
BEGIN:VEVENT
DTSTART;TZID=America/Toronto:20241217T130000
DTEND;TZID=America/Toronto:20241217T134000
DTSTAMP:20260420T022225
CREATED:20241108T151823Z
LAST-MODIFIED:20241108T151823Z
UID:487-1734440400-1734442800@bbas1.bhncdsb.ca
SUMMARY:Pita Pit
DESCRIPTION:Pitas must be ordered through the Lunch Box on School Cash Online.
URL:https://bbas1.bhncdsb.ca/event/pita-pit/
END:VEVENT
BEGIN:VEVENT
DTSTART;TZID=America/Toronto:20241216T123000
DTEND;TZID=America/Toronto:20241216T140000
DTSTAMP:20260420T022225
CREATED:20241108T152227Z
LAST-MODIFIED:20241108T152227Z
UID:496-1734352200-1734357600@bbas1.bhncdsb.ca
SUMMARY:Christmas Lunch
DESCRIPTION:
URL:https://bbas1.bhncdsb.ca/event/christmas-lunch/
END:VEVENT
BEGIN:VEVENT
DTSTART;TZID=America/Toronto:20241216T090000
DTEND;TZID=America/Toronto:20241216T160000
DTSTAMP:20260420T022225
CREATED:20241210T143134Z
LAST-MODIFIED:20241210T143134Z
UID:537-1734339600-1734364800@bbas1.bhncdsb.ca
SUMMARY:Junior Basketball Tournament - Cancellation Date
DESCRIPTION:Cancellation date for Junior Basketball Tournament
URL:https://bbas1.bhncdsb.ca/event/junior-basketball-tournament-cancellation-date/
END:VEVENT
BEGIN:VEVENT
DTSTART;TZID=America/Toronto:20241213T090000
DTEND;TZID=America/Toronto:20241213T160000
DTSTAMP:20260420T022225
CREATED:20241210T143015Z
LAST-MODIFIED:20241210T143203Z
UID:534-1734080400-1734105600@bbas1.bhncdsb.ca
SUMMARY:Junior Basketball Tournament - ACS
DESCRIPTION:Junior boys and girls teams will walk to Assumption College for their basketball tournament.
URL:https://bbas1.bhncdsb.ca/event/junior-basketball-tournament-acs/
END:VEVENT
BEGIN:VEVENT
DTSTART;TZID=America/Toronto:20241212T130000
DTEND;TZID=America/Toronto:20241212T134000
DTSTAMP:20260420T022225
CREATED:20241108T152107Z
LAST-MODIFIED:20241108T152107Z
UID:491-1734008400-1734010800@bbas1.bhncdsb.ca
SUMMARY:Pizza Day
DESCRIPTION:Pizza provided by Big Box Pizza. \nOrders must be placed on School Cash Online.
URL:https://bbas1.bhncdsb.ca/event/pizza-day-11/
END:VEVENT
BEGIN:VEVENT
DTSTART;TZID=America/Toronto:20241212T090000
DTEND;TZID=America/Toronto:20241212T113000
DTSTAMP:20260420T022225
CREATED:20241211T202303Z
LAST-MODIFIED:20241211T202303Z
UID:549-1733994000-1734003000@bbas1.bhncdsb.ca
SUMMARY:1C & 3C - Charlotte Villa Trip
DESCRIPTION:1C and 3C classes will travel by school bus to Charlotte Villa to spread some Holiday Cheer. \nThe bus will leave the school around 9:00am and return around 11:30am
URL:https://bbas1.bhncdsb.ca/event/1c-3c-charlotte-villa-trip/
END:VEVENT
BEGIN:VEVENT
DTSTART;TZID=America/Toronto:20241211T180000
DTEND;TZID=America/Toronto:20241211T193000
DTSTAMP:20260420T022225
CREATED:20241121T172521Z
LAST-MODIFIED:20241121T172521Z
UID:518-1733940000-1733945400@bbas1.bhncdsb.ca
SUMMARY:Christmas Social
DESCRIPTION:Holiday themed Arts & Crafts event. \n6:00pm – 7:30 pm \nMore details will come shortly. \n 
URL:https://bbas1.bhncdsb.ca/event/christmas-social/
END:VEVENT
BEGIN:VEVENT
DTSTART;TZID=America/Toronto:20241210T130000
DTEND;TZID=America/Toronto:20241210T134000
DTSTAMP:20260420T022225
CREATED:20241108T150948Z
LAST-MODIFIED:20241108T151426Z
UID:485-1733835600-1733838000@bbas1.bhncdsb.ca
SUMMARY:Pita Pit Day
DESCRIPTION:Pitas must be ordered through the Lunch Box on School Cash Online.
URL:https://bbas1.bhncdsb.ca/event/pita-pit-day-10/
END:VEVENT
BEGIN:VEVENT
DTSTART;TZID=America/Toronto:20241206T090000
DTEND;TZID=America/Toronto:20241206T160000
DTSTAMP:20260420T022225
CREATED:20241112T150814Z
LAST-MODIFIED:20241112T150814Z
UID:514-1733475600-1733500800@bbas1.bhncdsb.ca
SUMMARY:Poinsettia Pickup
DESCRIPTION:
URL:https://bbas1.bhncdsb.ca/event/poinsettia-pickup-3/
END:VEVENT
BEGIN:VEVENT
DTSTART;TZID=America/Toronto:20241205T130000
DTEND;TZID=America/Toronto:20241205T134000
DTSTAMP:20260420T022225
CREATED:20241108T152030Z
LAST-MODIFIED:20241108T152030Z
UID:489-1733403600-1733406000@bbas1.bhncdsb.ca
SUMMARY:Pizza Day
DESCRIPTION:Pizza provided by Big Box Pizza. \nOrders must be placed on School Cash Online.
URL:https://bbas1.bhncdsb.ca/event/pizza-day-10/
END:VEVENT
BEGIN:VEVENT
DTSTART;TZID=America/Toronto:20241205T090000
DTEND;TZID=America/Toronto:20241205T160000
DTSTAMP:20260420T022225
CREATED:20241112T150755Z
LAST-MODIFIED:20241112T150755Z
UID:511-1733389200-1733414400@bbas1.bhncdsb.ca
SUMMARY:Poinsettia Pickup
DESCRIPTION:
URL:https://bbas1.bhncdsb.ca/event/poinsettia-pickup-2/
END:VEVENT
BEGIN:VEVENT
DTSTART;TZID=America/Toronto:20241204T090000
DTEND;TZID=America/Toronto:20241204T180000
DTSTAMP:20260420T022225
CREATED:20241112T150728Z
LAST-MODIFIED:20241112T150728Z
UID:508-1733302800-1733335200@bbas1.bhncdsb.ca
SUMMARY:Poinsettia Pickup
DESCRIPTION:
URL:https://bbas1.bhncdsb.ca/event/poinsettia-pickup/
END:VEVENT
BEGIN:VEVENT
DTSTART;TZID=America/Toronto:20241203T130000
DTEND;TZID=America/Toronto:20241203T134000
DTSTAMP:20260420T022225
CREATED:20241108T150849Z
LAST-MODIFIED:20241108T150849Z
UID:483-1733230800-1733233200@bbas1.bhncdsb.ca
SUMMARY:Pita Pit Day
DESCRIPTION:Pitas must be ordered through the Lunch Box on School Cash Online.
URL:https://bbas1.bhncdsb.ca/event/pita-pit-day-9/
END:VEVENT
BEGIN:VEVENT
DTSTART;TZID=America/Toronto:20241202T103000
DTEND;TZID=America/Toronto:20241202T143000
DTSTAMP:20260420T022225
CREATED:20241112T150611Z
LAST-MODIFIED:20241112T150611Z
UID:505-1733135400-1733149800@bbas1.bhncdsb.ca
SUMMARY:Grade 8 Movie - Wicked
DESCRIPTION:Grade 8s will travel by school bus to Galaxy Cinemas Brantford to see Wicked. \nTickets and concession orders must be placed through School Cash Online.
URL:https://bbas1.bhncdsb.ca/event/grade-8-movie-wicked/
END:VEVENT
BEGIN:VEVENT
DTSTART;TZID=America/Toronto:20241128T130000
DTEND;TZID=America/Toronto:20241128T134000
DTSTAMP:20260420T022225
CREATED:20241031T155127Z
LAST-MODIFIED:20241031T155127Z
UID:444-1732798800-1732801200@bbas1.bhncdsb.ca
SUMMARY:Pizza Day
DESCRIPTION:Orders must be placed using School Cash Online. \nPizza provided by Big Box Pizza.
URL:https://bbas1.bhncdsb.ca/event/pizza-day-9/
END:VEVENT
BEGIN:VEVENT
DTSTART;TZID=America/Toronto:20241126T130000
DTEND;TZID=America/Toronto:20241126T134000
DTSTAMP:20260420T022225
CREATED:20241031T155428Z
LAST-MODIFIED:20241031T155428Z
UID:452-1732626000-1732628400@bbas1.bhncdsb.ca
SUMMARY:Pita Pit Day
DESCRIPTION:Orders must be placed using the Lunch Box link on School Cash Online.
URL:https://bbas1.bhncdsb.ca/event/pita-pit-day-8/
END:VEVENT
BEGIN:VEVENT
DTSTART;VALUE=DATE:20241124
DTEND;VALUE=DATE:20241125
DTSTAMP:20260420T022225
CREATED:20241108T142637Z
LAST-MODIFIED:20241108T142658Z
UID:467-1732406400-1732492799@bbas1.bhncdsb.ca
SUMMARY:Poinsettia Fundraiser Ends
DESCRIPTION:  \n 
URL:https://bbas1.bhncdsb.ca/event/poinsettia-fundraiser-begins/
END:VEVENT
END:VCALENDAR