BEGIN:VCALENDAR
VERSION:2.0
PRODID:-//St Basil Catholic Elementary School -Brantford - ECPv6.15.7//NONSGML v1.0//EN
CALSCALE:GREGORIAN
METHOD:PUBLISH
X-WR-CALNAME:St Basil Catholic Elementary School -Brantford
X-ORIGINAL-URL:https://bbas1.bhncdsb.ca
X-WR-CALDESC:Events for St Basil Catholic Elementary School -Brantford
REFRESH-INTERVAL;VALUE=DURATION:PT1H
X-Robots-Tag:noindex
X-PUBLISHED-TTL:PT1H
BEGIN:VTIMEZONE
TZID:America/Toronto
BEGIN:DAYLIGHT
TZOFFSETFROM:-0500
TZOFFSETTO:-0400
TZNAME:EDT
DTSTART:20230312T070000
END:DAYLIGHT
BEGIN:STANDARD
TZOFFSETFROM:-0400
TZOFFSETTO:-0500
TZNAME:EST
DTSTART:20231105T060000
END:STANDARD
BEGIN:DAYLIGHT
TZOFFSETFROM:-0500
TZOFFSETTO:-0400
TZNAME:EDT
DTSTART:20240310T070000
END:DAYLIGHT
BEGIN:STANDARD
TZOFFSETFROM:-0400
TZOFFSETTO:-0500
TZNAME:EST
DTSTART:20241103T060000
END:STANDARD
BEGIN:DAYLIGHT
TZOFFSETFROM:-0500
TZOFFSETTO:-0400
TZNAME:EDT
DTSTART:20250309T070000
END:DAYLIGHT
BEGIN:STANDARD
TZOFFSETFROM:-0400
TZOFFSETTO:-0500
TZNAME:EST
DTSTART:20251102T060000
END:STANDARD
END:VTIMEZONE
BEGIN:VEVENT
DTSTART;TZID=America/Toronto:20241114T130000
DTEND;TZID=America/Toronto:20241114T134000
DTSTAMP:20260420T065551
CREATED:20241031T155032Z
LAST-MODIFIED:20241031T155032Z
UID:439-1731589200-1731591600@bbas1.bhncdsb.ca
SUMMARY:Pizza Day
DESCRIPTION:Orders must be placed using School Cash Online. \nPizza provided by Big Box Pizza.
URL:https://bbas1.bhncdsb.ca/event/pizza-day-7/
END:VEVENT
BEGIN:VEVENT
DTSTART;TZID=America/Toronto:20241113T183000
DTEND;TZID=America/Toronto:20241113T193000
DTSTAMP:20260420T065551
CREATED:20241111T202912Z
LAST-MODIFIED:20241111T202912Z
UID:502-1731522600-1731526200@bbas1.bhncdsb.ca
SUMMARY:Parent Council Meeting
DESCRIPTION:Monthly Parent Council meeting. \nOnline through Teams. \n 
URL:https://bbas1.bhncdsb.ca/event/parent-council-meeting/
END:VEVENT
BEGIN:VEVENT
DTSTART;TZID=America/Toronto:20241112T130000
DTEND;TZID=America/Toronto:20241112T134000
DTSTAMP:20260420T065551
CREATED:20241031T155304Z
LAST-MODIFIED:20241031T155304Z
UID:448-1731416400-1731418800@bbas1.bhncdsb.ca
SUMMARY:Pita Pit Day
DESCRIPTION:Orders must be placed using the Lunch Box link on School Cash Online.
URL:https://bbas1.bhncdsb.ca/event/pita-pit-day-6/
END:VEVENT
BEGIN:VEVENT
DTSTART;VALUE=DATE:20241111
DTEND;VALUE=DATE:20241112
DTSTAMP:20260420T065551
CREATED:20241108T142928Z
LAST-MODIFIED:20241108T142928Z
UID:470-1731283200-1731369599@bbas1.bhncdsb.ca
SUMMARY:Poinsettia Fundraiser Begins
DESCRIPTION:Assorted sizes and colours. Purchases must be made on School Cash Online by November 24. \nPoinsettias can be picked up at the school Dec 4-6. \nAll proceeds will go towards lowering the cost of the Grade 8 trip to Camp Celtic. \n 
URL:https://bbas1.bhncdsb.ca/event/poinsettia-fundraiser-begins-2/
END:VEVENT
BEGIN:VEVENT
DTSTART;VALUE=DATE:20241111
DTEND;VALUE=DATE:20241112
DTSTAMP:20260420T065551
CREATED:20241108T141632Z
LAST-MODIFIED:20241108T141632Z
UID:465-1731283200-1731369599@bbas1.bhncdsb.ca
SUMMARY:Remembrance Day - Wear Red
DESCRIPTION:Students are encouraged to wear red in support of Remembrance Day. \nDonations for our local Legion can be made on School Cash Online. \nAll students will receive a poppy on Monday.
URL:https://bbas1.bhncdsb.ca/event/remembrance-day-wear-red/
END:VEVENT
BEGIN:VEVENT
DTSTART;TZID=America/Toronto:20241107T130000
DTEND;TZID=America/Toronto:20241107T134000
DTSTAMP:20260420T065551
CREATED:20241031T155002Z
LAST-MODIFIED:20241031T155002Z
UID:437-1730984400-1730986800@bbas1.bhncdsb.ca
SUMMARY:Pizza Day
DESCRIPTION:Orders must be placed using School Cash Online. \nPizza provided by Big Box Pizza.
URL:https://bbas1.bhncdsb.ca/event/pizza-day-6/
END:VEVENT
BEGIN:VEVENT
DTSTART;TZID=America/Toronto:20241107T091500
DTEND;TZID=America/Toronto:20241107T110000
DTSTAMP:20260420T065551
CREATED:20241031T154848Z
LAST-MODIFIED:20241031T154848Z
UID:435-1730970900-1730977200@bbas1.bhncdsb.ca
SUMMARY:St. Basil Mass
DESCRIPTION:The entire school will travel by school bus to St. Basil Church for Mass.
URL:https://bbas1.bhncdsb.ca/event/st-basil-mass/
END:VEVENT
BEGIN:VEVENT
DTSTART;VALUE=DATE:20241106
DTEND;VALUE=DATE:20241107
DTSTAMP:20260420T065551
CREATED:20241031T155837Z
LAST-MODIFIED:20241031T155837Z
UID:456-1730851200-1730937599@bbas1.bhncdsb.ca
SUMMARY:Picture Retake Day
DESCRIPTION:Edge Imaging will be here to take pictures of students who missed the original day or wish to have their picture re-taken. \n 
URL:https://bbas1.bhncdsb.ca/event/picture-retake-day/
END:VEVENT
BEGIN:VEVENT
DTSTART;TZID=America/Toronto:20241105T130000
DTEND;TZID=America/Toronto:20241105T134000
DTSTAMP:20260420T065551
CREATED:20241031T155238Z
LAST-MODIFIED:20241031T155238Z
UID:446-1730811600-1730814000@bbas1.bhncdsb.ca
SUMMARY:Pita Pit Day
DESCRIPTION:Orders must be placed using the Lunch Box link on School Cash Online. \n 
URL:https://bbas1.bhncdsb.ca/event/pita-pit-day-5/
END:VEVENT
BEGIN:VEVENT
DTSTART;VALUE=DATE:20241104
DTEND;VALUE=DATE:20241105
DTSTAMP:20260420T065551
CREATED:20241031T155912Z
LAST-MODIFIED:20241031T155912Z
UID:458-1730678400-1730764799@bbas1.bhncdsb.ca
SUMMARY:Progress Reports Go Home
DESCRIPTION:All students will bring home a progress report card.
URL:https://bbas1.bhncdsb.ca/event/progress-reports-go-home/
END:VEVENT
BEGIN:VEVENT
DTSTART;VALUE=DATE:20241101
DTEND;VALUE=DATE:20241102
DTSTAMP:20260420T065551
CREATED:20241031T155519Z
LAST-MODIFIED:20241031T155519Z
UID:454-1730419200-1730505599@bbas1.bhncdsb.ca
SUMMARY:PJ Day
DESCRIPTION:All students are encouraged to wear pajamas to school if they wish.
URL:https://bbas1.bhncdsb.ca/event/pj-day/
END:VEVENT
BEGIN:VEVENT
DTSTART;TZID=America/Toronto:20241031T130000
DTEND;TZID=America/Toronto:20241031T134000
DTSTAMP:20260420T065551
CREATED:20240926T202400Z
LAST-MODIFIED:20240926T202400Z
UID:391-1730379600-1730382000@bbas1.bhncdsb.ca
SUMMARY:Pizza Day
DESCRIPTION:Hot Lunch organized by Parent Council. \nOrders must be placed using School Cash Online \nPizza delivered by Big Box Pizza.
URL:https://bbas1.bhncdsb.ca/event/pizza-day-5/
END:VEVENT
BEGIN:VEVENT
DTSTART;TZID=America/Toronto:20241029T130000
DTEND;TZID=America/Toronto:20241029T134000
DTSTAMP:20260420T065551
CREATED:20240926T203601Z
LAST-MODIFIED:20240926T203601Z
UID:407-1730206800-1730209200@bbas1.bhncdsb.ca
SUMMARY:Pita Pit Day
DESCRIPTION:Hot Lunch is organized by Parent Council. \nOrders must be placed using the Lunchbox option through School Cash Online. \nPitas are delivered by Pita Pit.
URL:https://bbas1.bhncdsb.ca/event/pita-pit-day-4/
END:VEVENT
BEGIN:VEVENT
DTSTART;TZID=America/Toronto:20241024T130000
DTEND;TZID=America/Toronto:20241024T134000
DTSTAMP:20260420T065551
CREATED:20240926T202330Z
LAST-MODIFIED:20240926T202330Z
UID:389-1729774800-1729777200@bbas1.bhncdsb.ca
SUMMARY:Pizza Day
DESCRIPTION:Hot Lunch organized by Parent Council. \nOrders must be placed using School Cash Online \nPizza delivered by Big Box Pizza.
URL:https://bbas1.bhncdsb.ca/event/pizza-day-4/
END:VEVENT
BEGIN:VEVENT
DTSTART;TZID=America/Toronto:20241022T130000
DTEND;TZID=America/Toronto:20241022T134000
DTSTAMP:20260420T065551
CREATED:20240926T203527Z
LAST-MODIFIED:20240926T203527Z
UID:405-1729602000-1729604400@bbas1.bhncdsb.ca
SUMMARY:Pita Pit Day
DESCRIPTION:Hot Lunch is organized by Parent Council. \nOrders must be placed using the Lunchbox option through School Cash Online. \nPitas are delivered by Pita Pit.
URL:https://bbas1.bhncdsb.ca/event/pita-pit-day-3/
END:VEVENT
BEGIN:VEVENT
DTSTART;VALUE=DATE:20241018
DTEND;VALUE=DATE:20241019
DTSTAMP:20260420T065551
CREATED:20240926T204311Z
LAST-MODIFIED:20240926T204311Z
UID:414-1729209600-1729295999@bbas1.bhncdsb.ca
SUMMARY:Chocolate Bar Fundraiser Ends
DESCRIPTION:Please submit $100 payment for your box of chocolate bars through School Cash Online. \nOnly full\, sealed boxes can be returned to the school.
URL:https://bbas1.bhncdsb.ca/event/chocolate-bar-fundraiser-ends/
END:VEVENT
BEGIN:VEVENT
DTSTART;TZID=America/Toronto:20241017T130000
DTEND;TZID=America/Toronto:20241017T134000
DTSTAMP:20260420T065551
CREATED:20240926T202303Z
LAST-MODIFIED:20240926T202303Z
UID:387-1729170000-1729172400@bbas1.bhncdsb.ca
SUMMARY:Pizza Day
DESCRIPTION:Hot Lunch organized by Parent Council. \nOrders must be placed using School Cash Online \nPizza delivered by Big Box Pizza.
URL:https://bbas1.bhncdsb.ca/event/pizza-day-3/
END:VEVENT
BEGIN:VEVENT
DTSTART;TZID=America/Toronto:20241015T130000
DTEND;TZID=America/Toronto:20241015T134000
DTSTAMP:20260420T065551
CREATED:20240926T203501Z
LAST-MODIFIED:20240926T203501Z
UID:403-1728997200-1728999600@bbas1.bhncdsb.ca
SUMMARY:Pita Pit Day
DESCRIPTION:Hot Lunch is organized by Parent Council. \nOrders must be placed using the Lunchbox option through School Cash Online. \nPitas are delivered by Pita Pit.
URL:https://bbas1.bhncdsb.ca/event/pita-pit-day-2/
END:VEVENT
BEGIN:VEVENT
DTSTART;VALUE=DATE:20241014
DTEND;VALUE=DATE:20241015
DTSTAMP:20260420T065551
CREATED:20240926T204031Z
LAST-MODIFIED:20240926T204031Z
UID:410-1728864000-1728950399@bbas1.bhncdsb.ca
SUMMARY:Thanksgiving - No School
DESCRIPTION:School is closed to students and staff to celebrate Thanksgiving.
URL:https://bbas1.bhncdsb.ca/event/thanksgiving-no-school/
END:VEVENT
BEGIN:VEVENT
DTSTART;TZID=America/Toronto:20241010T130000
DTEND;TZID=America/Toronto:20241010T134000
DTSTAMP:20260420T065551
CREATED:20240926T202223Z
LAST-MODIFIED:20240926T202223Z
UID:385-1728565200-1728567600@bbas1.bhncdsb.ca
SUMMARY:Pizza Day
DESCRIPTION:Hot Lunch organized by Parent Council. \nOrders must be placed using School Cash Online \nPizza delivered by Big Box Pizza.
URL:https://bbas1.bhncdsb.ca/event/pizza-day-2/
END:VEVENT
BEGIN:VEVENT
DTSTART;VALUE=DATE:20241008
DTEND;VALUE=DATE:20241009
DTSTAMP:20260420T065551
CREATED:20240926T203130Z
LAST-MODIFIED:20240926T203130Z
UID:399-1728345600-1728431999@bbas1.bhncdsb.ca
SUMMARY:PA Day - No School
DESCRIPTION:School is closed for students.
URL:https://bbas1.bhncdsb.ca/event/pa-day-no-school/
END:VEVENT
BEGIN:VEVENT
DTSTART;VALUE=DATE:20241004
DTEND;VALUE=DATE:20241005
DTSTAMP:20260420T065551
CREATED:20240926T204152Z
LAST-MODIFIED:20240926T204152Z
UID:412-1728000000-1728086399@bbas1.bhncdsb.ca
SUMMARY:Chocolate Bar Fundraiser Begins
DESCRIPTION:Each family will receive 1 box of chocolate bars to sell. \nPayment for the box can be made through School Cash Online.
URL:https://bbas1.bhncdsb.ca/event/chocolate-bar-fundraiser-begins/
END:VEVENT
BEGIN:VEVENT
DTSTART;VALUE=DATE:20241004
DTEND;VALUE=DATE:20241005
DTSTAMP:20260420T065551
CREATED:20240926T201555Z
LAST-MODIFIED:20240926T201555Z
UID:380-1728000000-1728086399@bbas1.bhncdsb.ca
SUMMARY:Picture Day
DESCRIPTION:Edge Imaging will come to the school to take school photos of all students and staff.
URL:https://bbas1.bhncdsb.ca/event/picture-day/
LOCATION:St. Basil School
END:VEVENT
BEGIN:VEVENT
DTSTART;TZID=America/Toronto:20241003T130000
DTEND;TZID=America/Toronto:20241003T134000
DTSTAMP:20260420T065551
CREATED:20240926T201838Z
LAST-MODIFIED:20240926T201838Z
UID:383-1727960400-1727962800@bbas1.bhncdsb.ca
SUMMARY:Pizza Day
DESCRIPTION:Hot Lunch organized by Parent Council. \nOrders must be placed using School Cash Online \nPizza delivered by Big Box Pizza.
URL:https://bbas1.bhncdsb.ca/event/pizza-day/
END:VEVENT
BEGIN:VEVENT
DTSTART;VALUE=DATE:20241002
DTEND;VALUE=DATE:20241003
DTSTAMP:20260420T065551
CREATED:20240926T201307Z
LAST-MODIFIED:20240926T201307Z
UID:375-1727827200-1727913599@bbas1.bhncdsb.ca
SUMMARY:Soccer Tournament
DESCRIPTION:Junior and Intermediate teams will compete in a 1 day tournament at John Wright Soccer Field. \n 
URL:https://bbas1.bhncdsb.ca/event/soccer-tournament/
LOCATION:John Wright Soccer Field\, Brantford\, Canada
END:VEVENT
BEGIN:VEVENT
DTSTART;TZID=America/Toronto:20241001T130000
DTEND;TZID=America/Toronto:20241001T134000
DTSTAMP:20260420T065551
CREATED:20240926T203412Z
LAST-MODIFIED:20240926T203412Z
UID:401-1727787600-1727790000@bbas1.bhncdsb.ca
SUMMARY:Pita Pit Day
DESCRIPTION:Hot Lunch is organized by Parent Council. \nOrders must be placed using the Lunchbox option through School Cash Online. \nPitas are delivered by Pita Pit.
URL:https://bbas1.bhncdsb.ca/event/pita-pit-day/
END:VEVENT
BEGIN:VEVENT
DTSTART;TZID=America/Toronto:20240930T153000
DTEND;TZID=America/Toronto:20240930T163000
DTSTAMP:20260420T065551
CREATED:20240926T202847Z
LAST-MODIFIED:20240926T202847Z
UID:397-1727710200-1727713800@bbas1.bhncdsb.ca
SUMMARY:Soccer Practice
DESCRIPTION:Junior and Intermediate soccer teams will have practice after school.
URL:https://bbas1.bhncdsb.ca/event/soccer-practice/
END:VEVENT
BEGIN:VEVENT
DTSTART;VALUE=DATE:20240930
DTEND;VALUE=DATE:20241001
DTSTAMP:20260420T065551
CREATED:20240926T202636Z
LAST-MODIFIED:20240926T202636Z
UID:393-1727654400-1727740799@bbas1.bhncdsb.ca
SUMMARY:Orange Shirt Day
DESCRIPTION:Students and Staff are encouraged to wear an orange shirt in support of the National Day for Truth and Reconciliation.
URL:https://bbas1.bhncdsb.ca/event/orange-shirt-day/
END:VEVENT
BEGIN:VEVENT
DTSTART;VALUE=DATE:20240927
DTEND;VALUE=DATE:20240928
DTSTAMP:20260420T065551
CREATED:20240926T202755Z
LAST-MODIFIED:20240926T202755Z
UID:395-1727395200-1727481599@bbas1.bhncdsb.ca
SUMMARY:Terry Fox Run
DESCRIPTION:St Basil School will be participating in our annual Terry Fox Run in support of cancer awareness and research. \nDonations can be made through our school’s fundraising page. \n 
URL:https://bbas1.bhncdsb.ca/event/terry-fox-run/
END:VEVENT
BEGIN:VEVENT
DTSTART;VALUE=DATE:20240903
DTEND;VALUE=DATE:20240904
DTSTAMP:20260420T065551
CREATED:20240605T185751Z
LAST-MODIFIED:20240605T185757Z
UID:183-1725321600-1725407999@bbas1.bhncdsb.ca
SUMMARY:Happy First Day of School
DESCRIPTION:
URL:https://bbas1.bhncdsb.ca/event/happy-first-day-of-school/
END:VEVENT
END:VCALENDAR